BEGIN:VCALENDAR
VERSION:2.0
PRODID:-//Stadhampton Parish Council//Meeting Calendar//EN
CALSCALE:GREGORIAN
METHOD:PUBLISH
BEGIN:VEVENT
UID:71391-20251216@stadhampton-pc.gov.uk
DTSTAMP:20260425T122547Z
DTSTART;VALUE=DATE:20251216
DTEND;VALUE=DATE:20251217
SUMMARY:Parish Council Meeting 15th December 2025
DESCRIPTION:Full Council Meeting\nView details: https://stadhampton-pc.gov.uk/meetings/parish-council-meeting/
URL:https://stadhampton-pc.gov.uk/meetings/parish-council-meeting/
END:VEVENT
END:VCALENDAR
