BEGIN:VCALENDAR
VERSION:2.0
PRODID:-//Stadhampton Parish Council//Meeting Calendar//EN
CALSCALE:GREGORIAN
METHOD:PUBLISH
BEGIN:VEVENT
UID:71288-20250602@stadhampton-pc.gov.uk
DTSTAMP:20260423T105010Z
DTSTART;VALUE=DATE:20250602
DTEND;VALUE=DATE:20250603
SUMMARY:Annual Parish Council Meeting
DESCRIPTION:Annual Meeting\nView details: https://stadhampton-pc.gov.uk/meetings/annual-parish-council-meeting/
URL:https://stadhampton-pc.gov.uk/meetings/annual-parish-council-meeting/
END:VEVENT
END:VCALENDAR
