BEGIN:VCALENDAR
VERSION:2.0
PRODID:-//Stadhampton Parish Council//Meeting Calendar//EN
CALSCALE:GREGORIAN
METHOD:PUBLISH
BEGIN:VEVENT
UID:71281-20250519@stadhampton-pc.gov.uk
DTSTAMP:20260423T103158Z
DTSTART;VALUE=DATE:20250519
DTEND;VALUE=DATE:20250520
SUMMARY:Calendar of Meetings 2025-2026
DESCRIPTION:Full Council Meeting\nView details: https://stadhampton-pc.gov.uk/meetings/calendar-of-meetings-2025-2026/
URL:https://stadhampton-pc.gov.uk/meetings/calendar-of-meetings-2025-2026/
END:VEVENT
END:VCALENDAR
