BEGIN:VCALENDAR
VERSION:2.0
PRODID:-//Stadhampton Parish Council//Meeting Calendar//EN
CALSCALE:GREGORIAN
METHOD:PUBLISH
BEGIN:VEVENT
UID:71276-20250602@stadhampton-pc.gov.uk
DTSTAMP:20260423T104048Z
DTSTART;VALUE=DATE:20250602
DTEND;VALUE=DATE:20250603
SUMMARY:Annual Parish Council Meeting &#8211\\; Revised date 02/06/25
DESCRIPTION:Annual Meeting\nView details: https://stadhampton-pc.gov.uk/meetings/agm-meeting/
URL:https://stadhampton-pc.gov.uk/meetings/agm-meeting/
END:VEVENT
END:VCALENDAR
