BEGIN:VCALENDAR
VERSION:2.0
PRODID:-//Stadhampton Parish Council//Meeting Calendar//EN
CALSCALE:GREGORIAN
METHOD:PUBLISH
BEGIN:VEVENT
UID:71252-20250317@stadhampton-pc.gov.uk
DTSTAMP:20260423T104134Z
DTSTART;VALUE=DATE:20250317
DTEND;VALUE=DATE:20250318
SUMMARY:17/03/2025 Council Meeting
DESCRIPTION:Annual Meeting\nView details: https://stadhampton-pc.gov.uk/meetings/17-03-2025-council-meeting/
URL:https://stadhampton-pc.gov.uk/meetings/17-03-2025-council-meeting/
END:VEVENT
END:VCALENDAR
