BEGIN:VCALENDAR
VERSION:2.0
PRODID:-//Stadhampton Parish Council//Meeting Calendar//EN
CALSCALE:GREGORIAN
METHOD:PUBLISH
BEGIN:VEVENT
UID:70875-20240520@stadhampton-pc.gov.uk
DTSTAMP:20260423T104053Z
DTSTART;VALUE=DATE:20240520
DTEND;VALUE=DATE:20240521
SUMMARY:20/5/24 Annual Parish Meeting
DESCRIPTION:Annual Meeting\nView details: https://stadhampton-pc.gov.uk/meetings/annual-parish-meeting/
URL:https://stadhampton-pc.gov.uk/meetings/annual-parish-meeting/
END:VEVENT
END:VCALENDAR
