BEGIN:VCALENDAR
VERSION:2.0
PRODID:-//Stadhampton Parish Council//Meeting Calendar//EN
CALSCALE:GREGORIAN
METHOD:PUBLISH
BEGIN:VEVENT
UID:70815-20130506@stadhampton-pc.gov.uk
DTSTAMP:20260423T122157Z
DTSTART;VALUE=DATE:20130506
DTEND;VALUE=DATE:20130507
SUMMARY:06/05/13 Annual Parish Meeting
DESCRIPTION:Annual Meeting\nView details: https://stadhampton-pc.gov.uk/meetings/annual-parish-meeting-6th-may-2013/
URL:https://stadhampton-pc.gov.uk/meetings/annual-parish-meeting-6th-may-2013/
END:VEVENT
END:VCALENDAR
