BEGIN:VCALENDAR
VERSION:2.0
PRODID:-//Stadhampton Parish Council//Meeting Calendar//EN
CALSCALE:GREGORIAN
METHOD:PUBLISH
BEGIN:VEVENT
UID:70813-20120501@stadhampton-pc.gov.uk
DTSTAMP:20260423T122054Z
DTSTART;VALUE=DATE:20120501
DTEND;VALUE=DATE:20120502
SUMMARY:01/05/12 Annual Parish Meeting
DESCRIPTION:Annual Meeting\nView details: https://stadhampton-pc.gov.uk/meetings/annual-parish-meeting-1st-may-2012/
URL:https://stadhampton-pc.gov.uk/meetings/annual-parish-meeting-1st-may-2012/
END:VEVENT
END:VCALENDAR
