BEGIN:VCALENDAR
VERSION:2.0
PRODID:-//Stadhampton Parish Council//Meeting Calendar//EN
CALSCALE:GREGORIAN
METHOD:PUBLISH
BEGIN:VEVENT
UID:70809-20080602@stadhampton-pc.gov.uk
DTSTAMP:20260423T121252Z
DTSTART;VALUE=DATE:20080602
DTEND;VALUE=DATE:20080603
SUMMARY:Annual Parish Meeting &#8211\\; 2nd June 2008
DESCRIPTION:Annual Meeting\nView details: https://stadhampton-pc.gov.uk/meetings/annual-parish-meeting-2nd-june-2008/
URL:https://stadhampton-pc.gov.uk/meetings/annual-parish-meeting-2nd-june-2008/
END:VEVENT
END:VCALENDAR
