BEGIN:VCALENDAR
VERSION:2.0
PRODID:-//Stadhampton Parish Council//Meeting Calendar//EN
CALSCALE:GREGORIAN
METHOD:PUBLISH
BEGIN:VEVENT
UID:70706-20170101@stadhampton-pc.gov.uk
DTSTAMP:20260420T084133Z
DTSTART;VALUE=DATE:20170101
DTEND;VALUE=DATE:20170102
SUMMARY:2017 Council Meetings
DESCRIPTION:Full Council Meeting\nView details: https://stadhampton-pc.gov.uk/meetings/council-meetings-2017/
URL:https://stadhampton-pc.gov.uk/meetings/council-meetings-2017/
END:VEVENT
END:VCALENDAR
